git_url: https://git.bioconductor.org/packages/etec16s git_branch: RELEASE_3_17 git_last_commit: 1b79628 git_last_commit_date: 2023-04-25 10:42:15 -0400 (Tue, 25 Apr 2023) Package: etec16s Version: 1.28.0 Maintainer: Joseph N. Paulson MaintainerEmail: jpaulson at jimmy.harvard.edu