Package: davidTiling Version: 1.40.0 Command: /home/biocbuild/bbs-3.17-bioc/R/bin/R CMD check --install=check:davidTiling.install-out.txt --library=/home/biocbuild/bbs-3.17-bioc/R/site-library --timings davidTiling_1.40.0.tar.gz StartedAt: 2023-10-12 11:12:14 -0400 (Thu, 12 Oct 2023) EndedAt: 2023-10-12 11:16:21 -0400 (Thu, 12 Oct 2023) EllapsedTime: 247.4 seconds RetCode: 0 Status: WARNINGS CheckDir: davidTiling.Rcheck Warnings: 1