Package: crisprScoreData Version: 1.4.0 Command: /home/biocbuild/bbs-3.17-bioc/R/bin/R CMD check --install=check:crisprScoreData.install-out.txt --library=/home/biocbuild/bbs-3.17-bioc/R/site-library --timings crisprScoreData_1.4.0.tar.gz StartedAt: 2023-10-12 11:09:43 -0400 (Thu, 12 Oct 2023) EndedAt: 2023-10-12 11:11:45 -0400 (Thu, 12 Oct 2023) EllapsedTime: 122.3 seconds RetCode: 0 Status: OK CheckDir: crisprScoreData.Rcheck Warnings: 0