Package: cMap2data Version: 1.36.0 Command: /home/biocbuild/bbs-3.17-bioc/R/bin/R CMD check --install=check:cMap2data.install-out.txt --library=/home/biocbuild/bbs-3.17-bioc/R/site-library --timings cMap2data_1.36.0.tar.gz StartedAt: 2023-10-12 11:07:45 -0400 (Thu, 12 Oct 2023) EndedAt: 2023-10-12 11:08:01 -0400 (Thu, 12 Oct 2023) EllapsedTime: 16.3 seconds RetCode: 0 Status: WARNINGS CheckDir: cMap2data.Rcheck Warnings: 1