Package: bodymapRat Version: 1.16.0 Command: /home/biocbuild/bbs-3.17-bioc/R/bin/R CMD build --keep-empty-dirs --no-resave-data bodymapRat StartedAt: 2023-10-12 10:14:31 -0400 (Thu, 12 Oct 2023) EndedAt: 2023-10-12 10:15:15 -0400 (Thu, 12 Oct 2023) EllapsedTime: 43.9 seconds RetCode: 0 Status: OK PackageFile: bodymapRat_1.16.0.tar.gz PackageFileSize: 299.4 KiB