Package: affydata Version: 1.48.1 Command: /home/biocbuild/bbs-3.17-bioc/R/bin/R CMD INSTALL affydata StartedAt: 2023-10-12 10:02:47 -0400 (Thu, 12 Oct 2023) EndedAt: 2023-10-12 10:02:50 -0400 (Thu, 12 Oct 2023) EllapsedTime: 3.1 seconds RetCode: 0 Status: OK