Package: affydata Version: 1.48.1 Command: /home/biocbuild/bbs-3.17-bioc/R/bin/R CMD build --keep-empty-dirs --no-resave-data affydata StartedAt: 2023-10-12 10:13:22 -0400 (Thu, 12 Oct 2023) EndedAt: 2023-10-12 10:13:45 -0400 (Thu, 12 Oct 2023) EllapsedTime: 23.5 seconds RetCode: 0 Status: OK PackageFile: affydata_1.48.1.tar.gz PackageFileSize: 12.12 MiB