Package: XhybCasneuf Version: 1.38.0 Command: /home/biocbuild/bbs-3.17-bioc/R/bin/R CMD build --keep-empty-dirs --no-resave-data XhybCasneuf StartedAt: 2023-10-12 10:56:42 -0400 (Thu, 12 Oct 2023) EndedAt: 2023-10-12 10:57:01 -0400 (Thu, 12 Oct 2023) EllapsedTime: 18.9 seconds RetCode: 0 Status: OK PackageFile: XhybCasneuf_1.38.0.tar.gz PackageFileSize: 3.256 MiB