Package: TargetSearchData Version: 1.38.0 Command: /home/biocbuild/bbs-3.17-bioc/R/bin/R CMD check --install=check:TargetSearchData.install-out.txt --library=/home/biocbuild/bbs-3.17-bioc/R/site-library --timings TargetSearchData_1.38.0.tar.gz StartedAt: 2023-10-12 12:06:39 -0400 (Thu, 12 Oct 2023) EndedAt: 2023-10-12 12:07:01 -0400 (Thu, 12 Oct 2023) EllapsedTime: 22.0 seconds RetCode: 0 Status: OK CheckDir: TargetSearchData.Rcheck Warnings: 0