Package: TBX20BamSubset Version: 1.36.0 Command: /home/biocbuild/bbs-3.17-bioc/R/bin/R CMD INSTALL TBX20BamSubset StartedAt: 2023-10-12 10:08:11 -0400 (Thu, 12 Oct 2023) EndedAt: 2023-10-12 10:08:22 -0400 (Thu, 12 Oct 2023) EllapsedTime: 11.2 seconds RetCode: 0 Status: OK