git_url: https://git.bioconductor.org/packages/SNPhoodData git_branch: RELEASE_3_17 git_last_commit: 0f21d4d git_last_commit_date: 2023-04-25 10:39:17 -0400 (Tue, 25 Apr 2023) Package: SNPhoodData Version: 1.30.0 Maintainer: Christian Arnold MaintainerEmail: christian.arnold at embl.de