Package: SBGNview.data Version: 1.14.0 Command: /home/biocbuild/bbs-3.17-bioc/R/bin/R CMD build --keep-empty-dirs --no-resave-data SBGNview.data StartedAt: 2023-10-12 10:48:49 -0400 (Thu, 12 Oct 2023) EndedAt: 2023-10-12 10:49:33 -0400 (Thu, 12 Oct 2023) EllapsedTime: 44.4 seconds RetCode: 0 Status: OK PackageFile: SBGNview.data_1.14.0.tar.gz PackageFileSize: 65.91 MiB