Package: RLHub Version: 1.6.0 Command: /home/biocbuild/bbs-3.17-bioc/R/bin/R CMD INSTALL RLHub StartedAt: 2023-10-12 10:04:05 -0400 (Thu, 12 Oct 2023) EndedAt: 2023-10-12 10:04:18 -0400 (Thu, 12 Oct 2023) EllapsedTime: 13.4 seconds RetCode: 0 Status: OK