git_url: https://git.bioconductor.org/packages/RLHub git_branch: RELEASE_3_17 git_last_commit: 01ef868 git_last_commit_date: 2023-04-25 10:51:09 -0400 (Tue, 25 Apr 2023) Package: RLHub Version: 1.6.0 Maintainer: Henry Miller MaintainerEmail: millerh1 at uthscsa.edu