git_url: https://git.bioconductor.org/packages/PWMEnrich.Dmelanogaster.background git_branch: RELEASE_3_17 git_last_commit: a7bb7eb git_last_commit_date: 2023-04-25 09:54:26 -0400 (Tue, 25 Apr 2023) Package: PWMEnrich.Dmelanogaster.background Version: 4.34.0 Maintainer: Diego Diez MaintainerEmail: diego10ruiz at gmail.com