Package: PREDAsampledata Version: 0.40.0 Command: /home/biocbuild/bbs-3.17-bioc/R/bin/R CMD INSTALL PREDAsampledata StartedAt: 2023-10-12 10:02:27 -0400 (Thu, 12 Oct 2023) EndedAt: 2023-10-12 10:02:52 -0400 (Thu, 12 Oct 2023) EllapsedTime: 25.6 seconds RetCode: 0 Status: OK