Package: PREDAsampledata Version: 0.40.0 Command: /home/biocbuild/bbs-3.17-bioc/R/bin/R CMD build --keep-empty-dirs --no-resave-data PREDAsampledata StartedAt: 2023-10-12 10:45:08 -0400 (Thu, 12 Oct 2023) EndedAt: 2023-10-12 10:45:29 -0400 (Thu, 12 Oct 2023) EllapsedTime: 20.3 seconds RetCode: 0 Status: OK PackageFile: PREDAsampledata_0.40.0.tar.gz PackageFileSize: 66.79 MiB