Package: NxtIRFdata Version: 1.6.0 Command: /home/biocbuild/bbs-3.17-bioc/R/bin/R CMD INSTALL NxtIRFdata StartedAt: 2023-10-12 10:08:27 -0400 (Thu, 12 Oct 2023) EndedAt: 2023-10-12 10:08:28 -0400 (Thu, 12 Oct 2023) EllapsedTime: 1.2 seconds RetCode: 0 Status: OK