Package: NxtIRFdata Version: 1.6.0 Command: /home/biocbuild/bbs-3.17-bioc/R/bin/R CMD build --keep-empty-dirs --no-resave-data NxtIRFdata StartedAt: 2023-10-12 10:43:22 -0400 (Thu, 12 Oct 2023) EndedAt: 2023-10-12 10:43:43 -0400 (Thu, 12 Oct 2023) EllapsedTime: 21.4 seconds RetCode: 0 Status: OK PackageFile: NxtIRFdata_1.6.0.tar.gz PackageFileSize: 318 KiB