Package: NanoporeRNASeq Version: 1.10.0 Command: /home/biocbuild/bbs-3.17-bioc/R/bin/R CMD INSTALL NanoporeRNASeq StartedAt: 2023-10-12 10:04:34 -0400 (Thu, 12 Oct 2023) EndedAt: 2023-10-12 10:04:44 -0400 (Thu, 12 Oct 2023) EllapsedTime: 10.7 seconds RetCode: 0 Status: OK