Package: MAQCsubset Version: 1.38.0 Command: /home/biocbuild/bbs-3.17-bioc/R/bin/R CMD build --keep-empty-dirs --no-resave-data MAQCsubset StartedAt: 2023-10-12 10:37:38 -0400 (Thu, 12 Oct 2023) EndedAt: 2023-10-12 10:38:59 -0400 (Thu, 12 Oct 2023) EllapsedTime: 81.2 seconds RetCode: 0 Status: OK PackageFile: MAQCsubset_1.38.0.tar.gz PackageFileSize: 64.8 MiB