git_url: https://git.bioconductor.org/packages/Iyer517 git_branch: RELEASE_3_17 git_last_commit: 1819a9e git_last_commit_date: 2023-04-25 09:49:51 -0400 (Tue, 25 Apr 2023) Package: Iyer517 Version: 1.42.0 Maintainer: Vince Carey MaintainerEmail: stvjc at channing.harvard.edu