Package: HDCytoData Version: 1.20.0 Command: /home/biocbuild/bbs-3.17-bioc/R/bin/R CMD INSTALL HDCytoData StartedAt: 2023-10-12 10:11:58 -0400 (Thu, 12 Oct 2023) EndedAt: 2023-10-12 10:12:31 -0400 (Thu, 12 Oct 2023) EllapsedTime: 33.7 seconds RetCode: 0 Status: OK