git_url: https://git.bioconductor.org/packages/HDCytoData git_branch: RELEASE_3_17 git_last_commit: abc6893 git_last_commit_date: 2023-04-25 10:45:23 -0400 (Tue, 25 Apr 2023) Package: HDCytoData Version: 1.20.0 Maintainer: Lukas M. Weber MaintainerEmail: lukas.weber.edu at gmail.com