Package: HCAData Version: 1.16.0 Command: /home/biocbuild/bbs-3.17-bioc/R/bin/R CMD INSTALL HCAData StartedAt: 2023-10-12 10:11:01 -0400 (Thu, 12 Oct 2023) EndedAt: 2023-10-12 10:11:27 -0400 (Thu, 12 Oct 2023) EllapsedTime: 26.8 seconds RetCode: 0 Status: OK