Package: GSE103322 Version: 1.6.0 Command: /home/biocbuild/bbs-3.17-bioc/R/bin/R CMD INSTALL GSE103322 StartedAt: 2023-10-12 10:01:51 -0400 (Thu, 12 Oct 2023) EndedAt: 2023-10-12 10:01:55 -0400 (Thu, 12 Oct 2023) EllapsedTime: 3.9 seconds RetCode: 0 Status: OK