Package: GSE103322 Version: 1.6.0 Command: /home/biocbuild/bbs-3.17-bioc/R/bin/R CMD build --keep-empty-dirs --no-resave-data GSE103322 StartedAt: 2023-10-12 10:30:13 -0400 (Thu, 12 Oct 2023) EndedAt: 2023-10-12 10:30:38 -0400 (Thu, 12 Oct 2023) EllapsedTime: 24.8 seconds RetCode: 0 Status: OK PackageFile: GSE103322_1.6.0.tar.gz PackageFileSize: 218.8 KiB