Package: GIGSEAdata Version: 1.18.0 Command: /home/biocbuild/bbs-3.17-bioc/R/bin/R CMD INSTALL GIGSEAdata StartedAt: 2023-10-12 10:00:32 -0400 (Thu, 12 Oct 2023) EndedAt: 2023-10-12 10:00:38 -0400 (Thu, 12 Oct 2023) EllapsedTime: 5.9 seconds RetCode: 0 Status: OK