Package: EpiMix.data Version: 1.2.2 Command: /home/biocbuild/bbs-3.17-bioc/R/bin/R CMD INSTALL EpiMix.data StartedAt: 2023-10-12 10:05:02 -0400 (Thu, 12 Oct 2023) EndedAt: 2023-10-12 10:05:19 -0400 (Thu, 12 Oct 2023) EllapsedTime: 16.7 seconds RetCode: 0 Status: OK