Package: EGSEAdata Version: 1.28.0 Command: /home/biocbuild/bbs-3.17-bioc/R/bin/R CMD build --keep-empty-dirs --no-resave-data EGSEAdata StartedAt: 2023-10-12 10:24:25 -0400 (Thu, 12 Oct 2023) EndedAt: 2023-10-12 10:24:31 -0400 (Thu, 12 Oct 2023) EllapsedTime: 5.7 seconds RetCode: 0 Status: OK PackageFile: EGSEAdata_1.28.0.tar.gz PackageFileSize: 66.58 MiB