git_url: https://git.bioconductor.org/packages/EGSEAdata git_branch: RELEASE_3_17 git_last_commit: 1e83036 git_last_commit_date: 2023-04-25 10:42:27 -0400 (Tue, 25 Apr 2023) Package: EGSEAdata Version: 1.28.0 Maintainer: Monther Alhamdoosh MaintainerEmail: m.hamdoosh at gmail.com