Package: DMRcatedata Version: 2.18.0 Command: /home/biocbuild/bbs-3.17-bioc/R/bin/R CMD INSTALL DMRcatedata StartedAt: 2023-10-12 10:12:15 -0400 (Thu, 12 Oct 2023) EndedAt: 2023-10-12 10:12:48 -0400 (Thu, 12 Oct 2023) EllapsedTime: 33.0 seconds RetCode: 0 Status: OK