Package: DMRcatedata Version: 2.18.0 Command: /home/biocbuild/bbs-3.17-bioc/R/bin/R CMD build --keep-empty-dirs --no-resave-data DMRcatedata StartedAt: 2023-10-12 10:23:18 -0400 (Thu, 12 Oct 2023) EndedAt: 2023-10-12 10:24:09 -0400 (Thu, 12 Oct 2023) EllapsedTime: 50.9 seconds RetCode: 0 Status: OK PackageFile: DMRcatedata_2.18.0.tar.gz PackageFileSize: 102.7 KiB