Package: DExMAdata Version: 1.8.0 Command: /home/biocbuild/bbs-3.17-bioc/R/bin/R CMD INSTALL DExMAdata StartedAt: 2023-10-12 10:01:25 -0400 (Thu, 12 Oct 2023) EndedAt: 2023-10-12 10:02:20 -0400 (Thu, 12 Oct 2023) EllapsedTime: 55.0 seconds RetCode: 0 Status: OK