Package: CluMSIDdata Version: 1.16.0 Command: /home/biocbuild/bbs-3.17-bioc/R/bin/R CMD check --install=check:CluMSIDdata.install-out.txt --library=/home/biocbuild/bbs-3.17-bioc/R/site-library --timings CluMSIDdata_1.16.0.tar.gz StartedAt: 2023-10-12 11:07:34 -0400 (Thu, 12 Oct 2023) EndedAt: 2023-10-12 11:07:47 -0400 (Thu, 12 Oct 2023) EllapsedTime: 12.6 seconds RetCode: 0 Status: OK CheckDir: CluMSIDdata.Rcheck Warnings: 0