Package: BeadSorted.Saliva.EPIC Version: 1.8.0 Command: /home/biocbuild/bbs-3.17-bioc/R/bin/R CMD check --install=check:BeadSorted.Saliva.EPIC.install-out.txt --library=/home/biocbuild/bbs-3.17-bioc/R/site-library --timings BeadSorted.Saliva.EPIC_1.8.0.tar.gz StartedAt: 2023-10-12 10:59:48 -0400 (Thu, 12 Oct 2023) EndedAt: 2023-10-12 11:04:43 -0400 (Thu, 12 Oct 2023) EllapsedTime: 294.7 seconds RetCode: 0 Status: OK CheckDir: BeadSorted.Saliva.EPIC.Rcheck Warnings: 0