Package: ALLMLL Version: 1.40.0 Command: /home/biocbuild/bbs-3.17-bioc/R/bin/R CMD check --install=check:ALLMLL.install-out.txt --library=/home/biocbuild/bbs-3.17-bioc/R/site-library --timings ALLMLL_1.40.0.tar.gz StartedAt: 2023-10-12 10:59:13 -0400 (Thu, 12 Oct 2023) EndedAt: 2023-10-12 10:59:37 -0400 (Thu, 12 Oct 2023) EllapsedTime: 24.0 seconds RetCode: 0 Status: OK CheckDir: ALLMLL.Rcheck Warnings: 0