Package: AHMeSHDbs Version: 0.99.6 Command: /home/biocbuild/bbs-3.17-bioc/R/bin/R CMD INSTALL AHMeSHDbs StartedAt: 2023-10-11 05:30:11 -0400 (Wed, 11 Oct 2023) EndedAt: 2023-10-11 05:30:13 -0400 (Wed, 11 Oct 2023) EllapsedTime: 1.4 seconds RetCode: 0 Status: OK