Package: sparseMatrixStats Version: 1.12.2 Command: /Library/Frameworks/R.framework/Resources/bin/R CMD check --install=check:sparseMatrixStats.install-out.txt --library=/Library/Frameworks/R.framework/Resources/library --no-vignettes --timings sparseMatrixStats_1.12.2.tar.gz StartedAt: 2023-10-19 02:49:28 -0400 (Thu, 19 Oct 2023) EndedAt: 2023-10-19 02:51:35 -0400 (Thu, 19 Oct 2023) EllapsedTime: 127.6 seconds RetCode: 0 Status: OK CheckDir: sparseMatrixStats.Rcheck Warnings: 0