Package: omada Version: 1.1.0 Command: rm -rf omada.buildbin-libdir && mkdir omada.buildbin-libdir && /Users/biocbuild/BBS/utils/build-universal.sh omada_1.1.0.tar.gz /Library/Frameworks/R.framework/Resources/bin/R omada.buildbin-libdir StartedAt: 2023-03-14 15:26:26 -0400 (Tue, 14 Mar 2023) EndedAt: 2023-03-14 15:26:34 -0400 (Tue, 14 Mar 2023) EllapsedTime: 8.1 seconds RetCode: 0 Status: OK PackageFile: omada_1.1.0.tgz PackageFileSize: 291.4 KiB