git_url: https://git.bioconductor.org/packages/msmsEDA git_branch: RELEASE_3_17 git_last_commit: 3d2cbb4 git_last_commit_date: 2023-04-25 10:28:00 -0400 (Tue, 25 Apr 2023) Package: msmsEDA Version: 1.38.0 Maintainer: Josep Gregori MaintainerEmail: josep.gregori at gmail.com