Package: calm Version: 1.14.0 Command: /Library/Frameworks/R.framework/Resources/bin/R CMD INSTALL calm StartedAt: 2023-10-15 15:41:13 -0400 (Sun, 15 Oct 2023) EndedAt: 2023-10-15 15:41:23 -0400 (Sun, 15 Oct 2023) EllapsedTime: 9.7 seconds RetCode: 0 Status: OK