Package: calm Version: 1.14.0 Command: /Library/Frameworks/R.framework/Resources/bin/R CMD build --keep-empty-dirs --no-resave-data calm StartedAt: 2023-10-15 22:35:15 -0400 (Sun, 15 Oct 2023) EndedAt: 2023-10-15 22:38:03 -0400 (Sun, 15 Oct 2023) EllapsedTime: 168.5 seconds RetCode: 0 Status: OK PackageFile: calm_1.14.0.tar.gz PackageFileSize: 390 KiB