Package: calm Version: 1.14.0 Command: rm -rf calm.buildbin-libdir && mkdir calm.buildbin-libdir && /Users/biocbuild/BBS/utils/build-universal.sh calm_1.14.0.tar.gz /Library/Frameworks/R.framework/Resources/bin/R calm.buildbin-libdir StartedAt: 2023-10-19 11:48:37 -0400 (Thu, 19 Oct 2023) EndedAt: 2023-10-19 11:48:52 -0400 (Thu, 19 Oct 2023) EllapsedTime: 15.3 seconds RetCode: 0 Status: OK PackageFile: calm_1.14.0.tgz PackageFileSize: 419.1 KiB