| Back to Mac ARM64 build report for BioC 3.17 |
|
This page was generated on 2023-10-20 09:37:59 -0400 (Fri, 20 Oct 2023).
| Hostname | OS | Arch (*) | R version | Installed pkgs |
|---|---|---|---|---|
| kjohnson2 | macOS 12.6.1 Monterey | arm64 | 4.3.1 (2023-06-16) -- "Beagle Scouts" | 4347 |
| Click on any hostname to see more info about the system (e.g. compilers) (*) as reported by 'uname -p', except on Windows and Mac OS X | ||||
| Package 201/2230 | Hostname | OS / Arch | INSTALL | BUILD | CHECK | BUILD BIN | ||||||||
| biodbNcbi 1.4.0 (landing page) Pierrick Roger
| kjohnson2 | macOS 12.6.1 Monterey / arm64 | OK | OK | OK | OK | ||||||||
|
To the developers/maintainers of the biodbNcbi package: - Use the following Renviron settings to reproduce errors and warnings. - If 'R CMD check' started to fail recently on the Linux builder(s) over a missing dependency, add the missing dependency to 'Suggests:' in your DESCRIPTION file. See Renviron.bioc for more information. |
| Package: biodbNcbi |
| Version: 1.4.0 |
| Command: /Library/Frameworks/R.framework/Resources/bin/R CMD check --install=check:biodbNcbi.install-out.txt --library=/Library/Frameworks/R.framework/Resources/library --no-vignettes --timings biodbNcbi_1.4.0.tar.gz |
| StartedAt: 2023-10-17 05:45:13 -0400 (Tue, 17 Oct 2023) |
| EndedAt: 2023-10-17 05:48:50 -0400 (Tue, 17 Oct 2023) |
| EllapsedTime: 217.6 seconds |
| RetCode: 0 |
| Status: OK |
| CheckDir: biodbNcbi.Rcheck |
| Warnings: 0 |
##############################################################################
##############################################################################
###
### Running command:
###
### /Library/Frameworks/R.framework/Resources/bin/R CMD check --install=check:biodbNcbi.install-out.txt --library=/Library/Frameworks/R.framework/Resources/library --no-vignettes --timings biodbNcbi_1.4.0.tar.gz
###
##############################################################################
##############################################################################
* using log directory ‘/Users/biocbuild/bbs-3.17-bioc-mac-arm64/meat/biodbNcbi.Rcheck’
* using R version 4.3.1 (2023-06-16)
* using platform: aarch64-apple-darwin20 (64-bit)
* R was compiled by
Apple clang version 14.0.0 (clang-1400.0.29.202)
GNU Fortran (GCC) 12.2.0
* running under: macOS Monterey 12.6.7
* using session charset: UTF-8
* using option ‘--no-vignettes’
* checking for file ‘biodbNcbi/DESCRIPTION’ ... OK
* this is package ‘biodbNcbi’ version ‘1.4.0’
* package encoding: UTF-8
* checking package namespace information ... OK
* checking package dependencies ... OK
* checking if this is a source package ... OK
* checking if there is a namespace ... OK
* checking for hidden files and directories ... OK
* checking for portable file names ... OK
* checking for sufficient/correct file permissions ... OK
* checking whether package ‘biodbNcbi’ can be installed ... OK
* checking installed package size ... NOTE
installed size is 8.1Mb
sub-directories of 1Mb or more:
testref 7.6Mb
* checking package directory ... OK
* checking DESCRIPTION meta-information ... NOTE
Malformed Title field: should not end in a period.
* checking top-level files ... OK
* checking for left-over files ... OK
* checking index information ... OK
* checking package subdirectories ... OK
* checking R files for non-ASCII characters ... OK
* checking R files for syntax errors ... OK
* checking whether the package can be loaded ... OK
* checking whether the package can be loaded with stated dependencies ... OK
* checking whether the package can be unloaded cleanly ... OK
* checking whether the namespace can be loaded with stated dependencies ... OK
* checking whether the namespace can be unloaded cleanly ... OK
* checking dependencies in R code ... OK
* checking S3 generic/method consistency ... OK
* checking replacement functions ... OK
* checking foreign function calls ... OK
* checking R code for possible problems ... OK
* checking Rd files ... OK
* checking Rd metadata ... OK
* checking Rd cross-references ... OK
* checking for missing documentation entries ... OK
* checking for code/documentation mismatches ... OK
* checking Rd \usage sections ... OK
* checking Rd contents ... OK
* checking for unstated dependencies in examples ... OK
* checking files in ‘vignettes’ ... OK
* checking examples ... OK
Examples with CPU (user + system) or elapsed time > 5s
user system elapsed
NcbiCcdsConn 2.539 0.703 12.48
* checking for unstated dependencies in ‘tests’ ... OK
* checking tests ...
Running ‘testthat.R’
OK
* checking for unstated dependencies in vignettes ... OK
* checking package vignettes in ‘inst/doc’ ... OK
* checking running R code from vignettes ... SKIPPED
* checking re-building of vignette outputs ... SKIPPED
* checking PDF version of manual ... OK
* DONE
Status: 2 NOTEs
See
‘/Users/biocbuild/bbs-3.17-bioc-mac-arm64/meat/biodbNcbi.Rcheck/00check.log’
for details.
biodbNcbi.Rcheck/00install.out
############################################################################## ############################################################################## ### ### Running command: ### ### /Library/Frameworks/R.framework/Resources/bin/R CMD INSTALL biodbNcbi ### ############################################################################## ############################################################################## * installing to library ‘/Library/Frameworks/R.framework/Versions/4.3-arm64/Resources/library’ * installing *source* package ‘biodbNcbi’ ... ** using staged installation ** R ** inst ** byte-compile and prepare package for lazy loading ** help *** installing help indices ** building package indices ** installing vignettes ** testing if installed package can be loaded from temporary location ** testing if installed package can be loaded from final location ** testing if installed package keeps a record of temporary installation path * DONE (biodbNcbi)
biodbNcbi.Rcheck/tests/testthat.Rout
R version 4.3.1 (2023-06-16) -- "Beagle Scouts"
Copyright (C) 2023 The R Foundation for Statistical Computing
Platform: aarch64-apple-darwin20 (64-bit)
R is free software and comes with ABSOLUTELY NO WARRANTY.
You are welcome to redistribute it under certain conditions.
Type 'license()' or 'licence()' for distribution details.
R is a collaborative project with many contributors.
Type 'contributors()' for more information and
'citation()' on how to cite R or R packages in publications.
Type 'demo()' for some demos, 'help()' for on-line help, or
'help.start()' for an HTML browser interface to help.
Type 'q()' to quit R.
> # vi: fdm=marker
> # Script needed to run testthat automatically from ‘R CMD check’. See
> # testthat::test_dir documentation.
> library(testthat)
> library(biodbNcbi)
> Sys.setenv(TESTTHAT_REPORTER = "summary")
> Sys.setenv(BIODB_LOG_DST="console")
> test_check("biodbNcbi")
[ FAIL 0 | WARN 1 | SKIP 0 | PASS 433 ]
[ FAIL 0 | WARN 1 | SKIP 0 | PASS 433 ]
>
> proc.time()
user system elapsed
29.902 4.375 129.309
biodbNcbi.Rcheck/biodbNcbi-Ex.timings
| name | user | system | elapsed | |
| NcbiCcdsConn | 2.539 | 0.703 | 12.480 | |
| NcbiCcdsEntry | 0.426 | 0.016 | 0.471 | |
| NcbiEntrezConn | 0.615 | 0.030 | 1.599 | |
| NcbiGeneConn | 0.452 | 0.016 | 0.485 | |
| NcbiGeneEntry | 0.448 | 0.018 | 0.491 | |
| NcbiPubchemCompConn | 0.526 | 0.022 | 1.292 | |
| NcbiPubchemCompEntry | 0.468 | 0.017 | 0.515 | |
| NcbiPubchemConn | 0.459 | 0.015 | 0.495 | |
| NcbiPubchemEntry | 0.459 | 0.016 | 0.495 | |
| NcbiPubchemSubstConn | 0.529 | 0.022 | 1.302 | |
| NcbiPubchemSubstEntry | 0.447 | 0.016 | 0.484 | |