Package: aCGH Version: 1.78.0 Command: /Library/Frameworks/R.framework/Resources/bin/R CMD INSTALL aCGH StartedAt: 2023-10-15 18:36:18 -0400 (Sun, 15 Oct 2023) EndedAt: 2023-10-15 18:36:40 -0400 (Sun, 15 Oct 2023) EllapsedTime: 21.9 seconds RetCode: 0 Status: OK