git_url: https://git.bioconductor.org/packages/TypeInfo git_branch: RELEASE_3_17 git_last_commit: 56a7a1b git_last_commit_date: 2023-04-25 09:43:47 -0400 (Tue, 25 Apr 2023) Package: TypeInfo Version: 1.66.0 Maintainer: Duncan Temple Lang MaintainerEmail: duncan at wald.ucdavis.edu