Package: SGSeq Version: 1.34.0 Command: /Library/Frameworks/R.framework/Resources/bin/R CMD INSTALL SGSeq StartedAt: 2023-10-15 17:01:57 -0400 (Sun, 15 Oct 2023) EndedAt: 2023-10-15 17:03:18 -0400 (Sun, 15 Oct 2023) EllapsedTime: 81.0 seconds RetCode: 0 Status: OK