Package: SGSeq Version: 1.34.0 Command: rm -rf SGSeq.buildbin-libdir && mkdir SGSeq.buildbin-libdir && /Users/biocbuild/BBS/utils/build-universal.sh SGSeq_1.34.0.tar.gz /Library/Frameworks/R.framework/Resources/bin/R SGSeq.buildbin-libdir StartedAt: 2023-10-19 17:12:24 -0400 (Thu, 19 Oct 2023) EndedAt: 2023-10-19 17:14:25 -0400 (Thu, 19 Oct 2023) EllapsedTime: 121.2 seconds RetCode: 0 Status: OK PackageFile: SGSeq_1.34.0.tgz PackageFileSize: 1.746 MiB