Package: Rtreemix Version: 1.62.0 Command: rm -rf Rtreemix.buildbin-libdir && mkdir Rtreemix.buildbin-libdir && /Users/biocbuild/BBS/utils/build-universal.sh Rtreemix_1.62.0.tar.gz /Library/Frameworks/R.framework/Resources/bin/R Rtreemix.buildbin-libdir StartedAt: 2023-10-19 16:46:29 -0400 (Thu, 19 Oct 2023) EndedAt: 2023-10-19 16:48:57 -0400 (Thu, 19 Oct 2023) EllapsedTime: 148.5 seconds RetCode: 0 Status: OK PackageFile: Rtreemix_1.62.0.tgz PackageFileSize: 1.02 MiB